BEGIN:VCALENDAR
VERSION:2.0
PRODID:-//Squarespace Inc/Squarespace 6//v6//EN
BEGIN:VEVENT
UID:57e9a66e414fb5e6c1308732@squarespace.com
DTSTAMP:20160926T225918Z
DTSTART:20161001T130000Z
DTEND:20161002T000000Z
SUMMARY:Sample Saturday is October 1st!
END:VEVENT
END:VCALENDAR
