BEGIN:VCALENDAR
VERSION:2.0
PRODID:-//Squarespace Inc/Squarespace 6//v6//EN
BEGIN:VEVENT
UID:57eff9f56a4963a42b2689c2@squarespace.com
DTSTAMP:20161001T182824Z
DTSTART:20161029T130000Z
DTEND:20161030T000000Z
SUMMARY:Non-GMO Project 5% Donation Day
END:VEVENT
END:VCALENDAR
