BEGIN:VCALENDAR
VERSION:2.0
PRODID:-//Squarespace Inc/Squarespace 6//v6//EN
BEGIN:VEVENT
UID:581f4caae58c62bd0983e4d2@squarespace.com
DTSTAMP:20161106T221850Z
DTSTART:20161112T140000Z
DTEND:20161113T010000Z
SUMMARY:It's Back!  Customer Appreciation Day!  20% Off!
GEO:42.325726;-88.985509
LOCATION:Choices Natural Market\, 6718 Broadcast Parkway\, Loves Park\, IL\
 , 61111\, United States
END:VEVENT
END:VCALENDAR
