BEGIN:VCALENDAR
VERSION:2.0
PRODID:-//Squarespace Inc/Squarespace 6//v6//EN
BEGIN:VEVENT
UID:581a4ffce6f2e1ad8e0659f8@squarespace.com
DTSTAMP:20180731T112244Z
DTSTART:20161117T223000Z
DTEND:20161117T233000Z
SUMMARY:Bone Broth & Beyond!  Thursday\, November 17th\, 5:30 pm - 6:30 pm
END:VEVENT
END:VCALENDAR
