BEGIN:VCALENDAR
VERSION:2.0
PRODID:-//Squarespace Inc/Squarespace 6//v6//EN
BEGIN:VEVENT
UID:581a3bc359cc6849854ac161@squarespace.com
DTSTAMP:20161102T204325Z
DTSTART:20161105T130000Z
DTEND:20161106T000000Z
SUMMARY:November Sample Saturday!
END:VEVENT
END:VCALENDAR
