BEGIN:VCALENDAR
VERSION:2.0
PRODID:-//Squarespace Inc/Squarespace 6//v6//EN
BEGIN:VEVENT
UID:584305f729687f59fe55a83c@squarespace.com
DTSTAMP:20180731T112216Z
DTSTART:20161225T140000Z
DTEND:20161225T230000Z
SUMMARY:Christmas Day!  Choices will be closed!
END:VEVENT
END:VCALENDAR
