BEGIN:VCALENDAR
VERSION:2.0
PRODID:-//Squarespace Inc/Squarespace 6//v6//EN
BEGIN:VEVENT
UID:583c7b18414fb50504db6290@squarespace.com
DTSTAMP:20161128T185015Z
DTSTART:20161203T140000Z
DTEND:20161204T010000Z
SUMMARY:Join us for Sample Saturday!
GEO:42.325726;-88.985509
LOCATION:Choices Natural Market\, 6718 Broadcast Parkway\, Loves Park\, IL\
 , 61111\, United States
END:VEVENT
END:VCALENDAR
