BEGIN:VCALENDAR
VERSION:2.0
PRODID:-//Squarespace Inc/Squarespace 6//v6//EN
BEGIN:VEVENT
UID:5755f9d9d51cd46816ce11dc@squarespace.com
DTSTAMP:20180731T100340Z
DTSTART:20160629T223000Z
DTEND:20160629T233000Z
SUMMARY:Eat the Rainbow!
GEO:42.325722;-88.985536
LOCATION:Choices Natural Market\, 6718 Broadcast Parkway\, Loves Park\, IL\
 , 61111\, United States
END:VEVENT
END:VCALENDAR
