BEGIN:VCALENDAR
VERSION:2.0
PRODID:-//Squarespace Inc/Squarespace 6//v6//EN
BEGIN:VEVENT
UID:57c4c518d482e94f43191cd2@squarespace.com
DTSTAMP:20160829T233743Z
DTSTART:20160903T130000Z
DTEND:20160904T000000Z
SUMMARY:September Sample Saturday!
END:VEVENT
END:VCALENDAR
