BEGIN:VCALENDAR
VERSION:2.0
PRODID:-//Squarespace Inc/Squarespace 6//v6//EN
BEGIN:VEVENT
UID:5869288f44024318a077d1b1@squarespace.com
DTSTAMP:20170101T161304Z
DTSTART:20170107T140000Z
DTEND:20170108T010000Z
SUMMARY:January Sample Saturday!
END:VEVENT
END:VCALENDAR
