BEGIN:VCALENDAR
VERSION:2.0
PRODID:-//Squarespace Inc/Squarespace 6//v6//EN
BEGIN:VEVENT
UID:5869278346c3c4a162f32c8d@squarespace.com
DTSTAMP:20180731T112153Z
DTSTART:20170101T160000Z
DTEND:20170101T230000Z
SUMMARY:New Year's Day!--Choices is closed today!
END:VEVENT
END:VCALENDAR
