BEGIN:VCALENDAR
VERSION:2.0
PRODID:-//Squarespace Inc/Squarespace 6//v6//EN
BEGIN:VEVENT
UID:58692c15c534a514407941dc@squarespace.com
DTSTAMP:20170101T180735Z
DTSTART:20170117T200000Z
DTEND:20170117T230000Z
SUMMARY:rareESSENCE Aromatherapy Product Demo
END:VEVENT
END:VCALENDAR
