BEGIN:VCALENDAR
VERSION:2.0
PRODID:-//Squarespace Inc/Squarespace 6//v6//EN
BEGIN:VEVENT
UID:5884c0502e69cf6033c70143@squarespace.com
DTSTAMP:20180731T112101Z
DTSTART:20170128T140000Z
DTEND:20170129T010000Z
SUMMARY:THE sale to jumpstart your healthy eating journey!
END:VEVENT
END:VCALENDAR
