BEGIN:VCALENDAR
VERSION:2.0
PRODID:-//Squarespace Inc/Squarespace 6//v6//EN
BEGIN:VEVENT
UID:59cd280bf9a61e43a952c591@squarespace.com
DTSTAMP:20180731T105344Z
DTSTART:20171022T130000Z
DTEND:20171029T000000Z
SUMMARY:"Bulk is Green" Week!  Save 10% All Week!
END:VEVENT
END:VCALENDAR
