BEGIN:VCALENDAR
VERSION:2.0
PRODID:-//Squarespace Inc/Squarespace 6//v6//EN
BEGIN:VEVENT
UID:59d2b378e9bfdf0a9ff9ed74@squarespace.com
DTSTAMP:20180731T105211Z
DTSTART:20171025T220000Z
DTEND:20171025T230000Z
SUMMARY:A Glass of Wine\, A Bowl of Hearty Soup\, and a Chat with the Owner
END:VEVENT
END:VCALENDAR
