BEGIN:VCALENDAR
VERSION:2.0
PRODID:-//Squarespace Inc/Squarespace 6//v6//EN
BEGIN:VEVENT
UID:59cd3d263e00be80b516be60@squarespace.com
DTSTAMP:20180731T105136Z
DTSTART:20171029T180000Z
DTEND:20171029T190000Z
SUMMARY:Garden of Life presentation:  What Sets These Vitamins and Suppleme
 nts Apart?
END:VEVENT
END:VCALENDAR
