BEGIN:VCALENDAR
VERSION:2.0
PRODID:-//Squarespace Inc/Squarespace 6//v6//EN
BEGIN:VEVENT
UID:59cd1ea1cf81e0b2a21832ed@squarespace.com
DTSTAMP:20170928T164855Z
DTSTART:20171007T130000Z
DTEND:20171008T000000Z
SUMMARY:October Sample Saturday!
GEO:42.326283;-88.985712
LOCATION:Choices Natural Market\, 6718 Broadcast Parkway\, Loves Park\, IL\
 , 61111\, United States
END:VEVENT
END:VCALENDAR
