BEGIN:VCALENDAR
VERSION:2.0
PRODID:-//Squarespace Inc/Squarespace 6//v6//EN
BEGIN:VEVENT
UID:5a005bd0e4966b0f259e545f@squarespace.com
DTSTAMP:20180731T105018Z
DTSTART:20171111T140000Z
DTEND:20171112T010000Z
SUMMARY:Customer Appreciation Sale! 
END:VEVENT
END:VCALENDAR
