BEGIN:VCALENDAR
VERSION:2.0
PRODID:-//Squarespace Inc/Squarespace 6//v6//EN
BEGIN:VEVENT
UID:5a021fbef9619a0c2f6837dc@squarespace.com
DTSTAMP:20180731T104953Z
DTSTART:20171115T150000Z
DTEND:20171115T170000Z
SUMMARY:Java Mania Coffee Sampling!  LOCAL. ORGANIC. FAIR TRADE.
END:VEVENT
END:VCALENDAR
