BEGIN:VCALENDAR
VERSION:2.0
PRODID:-//Squarespace Inc/Squarespace 6//v6//EN
BEGIN:VEVENT
UID:5a00748d71c10ba9a24e00bf@squarespace.com
DTSTAMP:20180731T105109Z
DTSTART:20171115T230000Z
DTEND:20171116T000000Z
SUMMARY:Pump Up Your Iron! --CANCELLED.  WILL BE RESCHEDULED.
END:VEVENT
END:VCALENDAR
