BEGIN:VCALENDAR
VERSION:2.0
PRODID:-//Squarespace Inc/Squarespace 6//v6//EN
BEGIN:VEVENT
UID:5a00835fe31d19e1ae7b9657@squarespace.com
DTSTAMP:20180731T104733Z
DTSTART:20171116T170000Z
DTEND:20171116T200000Z
SUMMARY:Garden of Life Demo:  Greens Formulas
END:VEVENT
END:VCALENDAR
