BEGIN:VCALENDAR
VERSION:2.0
PRODID:-//Squarespace Inc/Squarespace 6//v6//EN
BEGIN:VEVENT
UID:5a00871853450a3b9cf9bd5c@squarespace.com
DTSTAMP:20180731T104609Z
DTSTART:20171129T160000Z
DTEND:20171129T170000Z
SUMMARY:DIY Essential Oil Workshop:  Scents of the Season
GEO:42.326283;-88.985712
LOCATION:Choices Natural Market\, 6718 Broadcast Parkway\, Loves Park\, IL\
 , 61111\, United States
END:VEVENT
END:VCALENDAR
