BEGIN:VCALENDAR
VERSION:2.0
PRODID:-//Squarespace Inc/Squarespace 6//v6//EN
BEGIN:VEVENT
UID:5a20d50024a694eb0d1b8976@squarespace.com
DTSTAMP:20180731T104029Z
DTSTART:20171225T140000Z
DTEND:20171226T010000Z
SUMMARY:Christmas Day--Choices is closed.
END:VEVENT
END:VCALENDAR
