BEGIN:VCALENDAR
VERSION:2.0
PRODID:-//Squarespace Inc/Squarespace 6//v6//EN
BEGIN:VEVENT
UID:5a20d1988165f51b7dbcef0a@squarespace.com
DTSTAMP:20180731T104058Z
DTSTART:20171224T150000Z
DTEND:20171224T190000Z
SUMMARY:Christmas Eve--Choices Hours:  10 a.m. - 2 p.m.
END:VEVENT
END:VCALENDAR
