BEGIN:VCALENDAR
VERSION:2.0
PRODID:-//Squarespace Inc/Squarespace 6//v6//EN
BEGIN:VEVENT
UID:59f934f06c3194e9a687afd8@squarespace.com
DTSTAMP:20171101T024842Z
DTSTART:20171104T130000Z
DTEND:20171105T000000Z
SUMMARY:November Sample Saturday!
GEO:42.326283;-88.985712
LOCATION:Choices Natural Market\, 6718 Broadcast Parkway\, Loves Park\, IL\
 , 61111\, United States
END:VEVENT
END:VCALENDAR
