BEGIN:VCALENDAR
VERSION:2.0
PRODID:-//Squarespace Inc/Squarespace 6//v6//EN
BEGIN:VEVENT
UID:5a2091fd419202d582a134de@squarespace.com
DTSTAMP:20171201T015151Z
DTSTART:20171213T203000Z
DTEND:20171213T213000Z
SUMMARY:DIY Holiday Snow Globe Workshop
END:VEVENT
END:VCALENDAR
