BEGIN:VCALENDAR
VERSION:2.0
PRODID:-//Squarespace Inc/Squarespace 6//v6//EN
BEGIN:VEVENT
UID:5a20b44bc8302566a3ae8e18@squarespace.com
DTSTAMP:20171201T015318Z
DTSTART:20171214T203000Z
DTEND:20171214T213000Z
SUMMARY:DIY Holiday Snow Globe Workshop
END:VEVENT
END:VCALENDAR
