BEGIN:VCALENDAR
VERSION:2.0
PRODID:-//Squarespace Inc/Squarespace 6//v6//EN
BEGIN:VEVENT
UID:5a207d7fec212d686c976a21@squarespace.com
DTSTAMP:20171130T215536Z
DTSTART:20171202T140000Z
DTEND:20171202T230000Z
SUMMARY:December Sample Saturday
END:VEVENT
END:VCALENDAR
