BEGIN:VCALENDAR
VERSION:2.0
PRODID:-//Squarespace Inc/Squarespace 6//v6//EN
BEGIN:VEVENT
UID:5a207e62e2c483d7912e5aeb@squarespace.com
DTSTAMP:20180731T104329Z
DTSTART:20171203T170000Z
DTEND:20171203T230000Z
SUMMARY:Staff Breakfast & Christmas Party--Choices opens Late:   12:00 Noon 
END:VEVENT
END:VCALENDAR
