BEGIN:VCALENDAR
VERSION:2.0
PRODID:-//Squarespace Inc/Squarespace 6//v6//EN
BEGIN:VEVENT
UID:5a208be4ec212d686c9ab6c8@squarespace.com
DTSTAMP:20180731T104216Z
DTSTART:20171207T223000Z
DTEND:20171207T233000Z
SUMMARY:Jarrow Talk:  Golden Milk and Herbals
END:VEVENT
END:VCALENDAR
