BEGIN:VCALENDAR
VERSION:2.0
PRODID:-//Squarespace Inc/Squarespace 6//v6//EN
BEGIN:VEVENT
UID:589b9cfad2b857b172496bcb@squarespace.com
DTSTAMP:20170211T172844Z
DTSTART:20170213T210000Z
DTEND:20170213T220000Z
SUMMARY:Kid's Craft:  Valentine Jars!  Monday\, February 13th from 4 pm - 5 
 pm
GEO:42.325712;-88.985505
LOCATION:Choices Natural Market\, 6718 Broadcast Parkway\, Loves Park\, IL\
 , 61111\, United States
END:VEVENT
END:VCALENDAR
