BEGIN:VCALENDAR
VERSION:2.0
PRODID:-//Squarespace Inc/Squarespace 6//v6//EN
BEGIN:VEVENT
UID:58a5f4e8893fc0fe76e978fe@squarespace.com
DTSTAMP:20180731T111824Z
DTSTART:20170218T160000Z
DTEND:20170218T190000Z
SUMMARY:Aloe Life Demo--Saturday\, February 18th  11 am - 2 pm
END:VEVENT
END:VCALENDAR
