BEGIN:VCALENDAR
VERSION:2.0
PRODID:-//Squarespace Inc/Squarespace 6//v6//EN
BEGIN:VEVENT
UID:589b46712e69cf66eee5f586@squarespace.com
DTSTAMP:20180731T112024Z
DTSTART:20170209T230000Z
DTEND:20170210T000000Z
SUMMARY:MegaFood presents Fresh From Farm to Tablet--Whole Food Vitamins
GEO:42.325712;-88.985505
LOCATION:Choices Natural Market\, 6718 Broadcast Parkway\, Loves Park\, IL\
 , 61111\, United States
END:VEVENT
END:VCALENDAR
