BEGIN:VCALENDAR
VERSION:2.0
PRODID:-//Squarespace Inc/Squarespace 6//v6//EN
BEGIN:VEVENT
UID:58baf453725e258dbeb5f04c@squarespace.com
DTSTAMP:20180731T111757Z
DTSTART:20170318T150000Z
DTEND:20170318T170000Z
SUMMARY:Vegan Buttery Popcorn Demo
END:VEVENT
END:VCALENDAR
