BEGIN:VCALENDAR
VERSION:2.0
PRODID:-//Squarespace Inc/Squarespace 6//v6//EN
BEGIN:VEVENT
UID:58baf5e53a04117b53298150@squarespace.com
DTSTAMP:20180731T111737Z
DTSTART:20170329T220000Z
DTEND:20170329T230000Z
SUMMARY:Natural Stress Management Class
END:VEVENT
END:VCALENDAR
