BEGIN:VCALENDAR
VERSION:2.0
PRODID:-//Squarespace Inc/Squarespace 6//v6//EN
BEGIN:VEVENT
UID:58baf2d0579fb33e05ad10d2@squarespace.com
DTSTAMP:20170304T170411Z
DTSTART:20170304T173000Z
DTEND:20170304T183000Z
SUMMARY:Sample Saturday
END:VEVENT
END:VCALENDAR
