BEGIN:VCALENDAR
VERSION:2.0
PRODID:-//Squarespace Inc/Squarespace 6//v6//EN
BEGIN:VEVENT
UID:58dfc2a329687f5bed0e8642@squarespace.com
DTSTAMP:20170401T151227Z
DTSTART:20170401T153000Z
DTEND:20170401T163000Z
SUMMARY:Sample Saturday!
END:VEVENT
END:VCALENDAR
