BEGIN:VCALENDAR
VERSION:2.0
PRODID:-//Squarespace Inc/Squarespace 6//v6//EN
BEGIN:VEVENT
UID:58dfc36746c3c418500f4624@squarespace.com
DTSTAMP:20180731T111706Z
DTSTART:20170416T130000Z
DTEND:20170417T000000Z
SUMMARY:Closed on Easter Sunday!
END:VEVENT
END:VCALENDAR
