BEGIN:VCALENDAR
VERSION:2.0
PRODID:-//Squarespace Inc/Squarespace 6//v6//EN
BEGIN:VEVENT
UID:58dfc531725e250f971b7f43@squarespace.com
DTSTAMP:20180731T111644Z
DTSTART:20170418T220000Z
DTEND:20170418T230000Z
SUMMARY:Probiotics and Digestive Health Class
GEO:42.325712;-88.985505
LOCATION:Choices Natural Market\, 6718 Broadcast Parkway\, Loves Park\, IL\
 , 61111\, United States
END:VEVENT
END:VCALENDAR
