BEGIN:VCALENDAR
VERSION:2.0
PRODID:-//Squarespace Inc/Squarespace 6//v6//EN
BEGIN:VEVENT
UID:58dfd58a59cc683151a7bebc@squarespace.com
DTSTAMP:20180731T111608Z
DTSTART:20170427T210000Z
DTEND:20170427T220000Z
SUMMARY:Yoga:  Aroma-flow
GEO:42.325712;-88.985505
LOCATION:Choices Natural Market\, 6718 Broadcast Parkway\, Loves Park\, IL\
 , 61111\, United States
END:VEVENT
END:VCALENDAR
