BEGIN:VCALENDAR
VERSION:2.0
PRODID:-//Squarespace Inc/Squarespace 6//v6//EN
BEGIN:VEVENT
UID:5909477dd2b85799bcc9ee17@squarespace.com
DTSTAMP:20180731T111357Z
DTSTART:20170514T130000Z
DTEND:20170515T000000Z
SUMMARY:Happy Mother's Day!
END:VEVENT
END:VCALENDAR
