BEGIN:VCALENDAR
VERSION:2.0
PRODID:-//Squarespace Inc/Squarespace 6//v6//EN
BEGIN:VEVENT
UID:590b62c9440243bec1d5c8ff@squarespace.com
DTSTAMP:20180731T111328Z
DTSTART:20170518T220000Z
DTEND:20170518T230000Z
SUMMARY:Bridging the Nutrition Gap--Cancelled--Being rescheduled in June
END:VEVENT
END:VCALENDAR
