BEGIN:VCALENDAR
VERSION:2.0
PRODID:-//Squarespace Inc/Squarespace 6//v6//EN
BEGIN:VEVENT
UID:590b65f11e5b6c1f20c25566@squarespace.com
DTSTAMP:20180731T111234Z
DTSTART:20170520T170000Z
DTEND:20170520T180000Z
SUMMARY:Vegetarianism--A Beginner's Guide
END:VEVENT
END:VCALENDAR
