BEGIN:VCALENDAR
VERSION:2.0
PRODID:-//Squarespace Inc/Squarespace 6//v6//EN
BEGIN:VEVENT
UID:591a1ce6e3df28f9a7d940ff@squarespace.com
DTSTAMP:20180731T111209Z
DTSTART:20170526T200000Z
DTEND:20170526T220000Z
SUMMARY:Pilates Power!
END:VEVENT
END:VCALENDAR
