BEGIN:VCALENDAR
VERSION:2.0
PRODID:-//Squarespace Inc/Squarespace 6//v6//EN
BEGIN:VEVENT
UID:5913b423a5790aa5281f91aa@squarespace.com
DTSTAMP:20180731T111130Z
DTSTART:20170529T130000Z
DTEND:20170529T180000Z
SUMMARY:Memorial Day!  Open 9 am - 2 pm
END:VEVENT
END:VCALENDAR
