BEGIN:VCALENDAR
VERSION:2.0
PRODID:-//Squarespace Inc/Squarespace 6//v6//EN
BEGIN:VEVENT
UID:590945a6ff7c5036ea0e0d7f@squarespace.com
DTSTAMP:20170504T181843Z
DTSTART:20170506T130000Z
DTEND:20170507T000000Z
SUMMARY:Sample Saturday!
END:VEVENT
END:VCALENDAR
