BEGIN:VCALENDAR
VERSION:2.0
PRODID:-//Squarespace Inc/Squarespace 6//v6//EN
BEGIN:VEVENT
UID:5931827b3a0411c3f01161e6@squarespace.com
DTSTAMP:20180731T111028Z
DTSTART:20170613T210000Z
DTEND:20170613T220000Z
SUMMARY:2017 Health Trends:  Bone Broth and Turmeric--What's the Buzz All A
 bout?
END:VEVENT
END:VCALENDAR
