BEGIN:VCALENDAR
VERSION:2.0
PRODID:-//Squarespace Inc/Squarespace 6//v6//EN
BEGIN:VEVENT
UID:591db41f59cc68671a3b5c2a@squarespace.com
DTSTAMP:20170613T164521Z
DTSTART:20170615T220000Z
DTEND:20170615T230000Z
SUMMARY:Vegetarianism:  A Beginner's Guide
GEO:42.325712;-88.985505
LOCATION:Choices Natural Market\, 6718 Broadcast Parkway\, Loves Park\, IL\
 , 61111\, United States
END:VEVENT
END:VCALENDAR
