BEGIN:VCALENDAR
VERSION:2.0
PRODID:-//Squarespace Inc/Squarespace 6//v6//EN
BEGIN:VEVENT
UID:5931e390197aeaf55745d354@squarespace.com
DTSTAMP:20180731T110916Z
DTSTART:20170617T130000Z
DTEND:20170618T000000Z
SUMMARY:Choices Celebration of 12 Years Serving the Rockford Community!
END:VEVENT
END:VCALENDAR
