BEGIN:VCALENDAR
VERSION:2.0
PRODID:-//Squarespace Inc/Squarespace 6//v6//EN
BEGIN:VEVENT
UID:591db9333a04118dc25c54a3@squarespace.com
DTSTAMP:20170518T151333Z
DTSTART:20170603T130000Z
DTEND:20170604T000000Z
SUMMARY:Sample Saturday!
GEO:42.325712;-88.985505
LOCATION:Choices Natural Market\, 6718 Broadcast Parkway\, Loves Park\, IL\
 , 61111\, United States
END:VEVENT
END:VCALENDAR
